BEGIN:VCALENDAR
VERSION:2.0
PRODID:-//ChamberMaster//Event Calendar 2.0//EN
METHOD:PUBLISH
X-PUBLISHED-TTL:P3D
REFRESH-INTERVAL:P3D
CALSCALE:GREGORIAN
BEGIN:VEVENT
DTSTART:20260510T013000Z
DTEND:20260510T060000Z
X-MICROSOFT-CDO-ALLDAYEVENT:FALSE
SUMMARY:The Haymaker
DESCRIPTION:Live music fundraiser in support of the Haywire Farm Festival\, a grassroots arts and music festival held just outside of Nipawin. Bringing together a mix of local and regional talent for an evening of entertainment and community connection\, the event features performances by Cupid's Heart\, Southwest\, Lenvale Elevators\, Brian Paul DG & Friends\, and a debut comedy set by Sheena Rai. Guests can also enjoy raffles and a silent auction\, with proceeds supporting festival programming and community arts initiatives.
X-ALT-DESC;FMTTYPE=text/html:Live music fundraiser in support of the Haywire Farm Festival\, a grassroots arts and music festival held just outside of Nipawin. Bringing together a mix of local and regional talent for an evening of entertainment and community connection\, the event features performances by Cupid&rsquo\;s Heart\, Southwest\, Lenvale Elevators\, Brian Paul DG &amp\; Friends\, and a debut comedy set by Sheena Rai. Guests can also enjoy raffles and a silent auction\, with proceeds supporting festival programming and community arts initiatives.
LOCATION:Rock Trout Cafe 2730 2 Ave W Prince Albert\, SK
UID:e.1649.6923
SEQUENCE:3
DTSTAMP:20260423T183157Z
URL:https://business.princealbertchamber.com/events/details/the-haymaker-6923
END:VEVENT

END:VCALENDAR
